BEGIN:VCALENDAR
VERSION:2.0
PRODID:-//Oklahoma Baptists - ECPv6.15.17.1//NONSGML v1.0//EN
CALSCALE:GREGORIAN
METHOD:PUBLISH
X-WR-CALNAME:Oklahoma Baptists
X-ORIGINAL-URL:https://www.oklahomabaptists.org
X-WR-CALDESC:Events for Oklahoma Baptists
REFRESH-INTERVAL;VALUE=DURATION:PT1H
X-Robots-Tag:noindex
X-PUBLISHED-TTL:PT1H
BEGIN:VTIMEZONE
TZID:America/Chicago
BEGIN:DAYLIGHT
TZOFFSETFROM:-0600
TZOFFSETTO:-0500
TZNAME:CDT
DTSTART:20250309T080000
END:DAYLIGHT
BEGIN:STANDARD
TZOFFSETFROM:-0500
TZOFFSETTO:-0600
TZNAME:CST
DTSTART:20251102T070000
END:STANDARD
BEGIN:DAYLIGHT
TZOFFSETFROM:-0600
TZOFFSETTO:-0500
TZNAME:CDT
DTSTART:20260308T080000
END:DAYLIGHT
BEGIN:STANDARD
TZOFFSETFROM:-0500
TZOFFSETTO:-0600
TZNAME:CST
DTSTART:20261101T070000
END:STANDARD
BEGIN:DAYLIGHT
TZOFFSETFROM:-0600
TZOFFSETTO:-0500
TZNAME:CDT
DTSTART:20270314T080000
END:DAYLIGHT
BEGIN:STANDARD
TZOFFSETFROM:-0500
TZOFFSETTO:-0600
TZNAME:CST
DTSTART:20271107T070000
END:STANDARD
END:VTIMEZONE
BEGIN:VEVENT
DTSTART;VALUE=DATE:20260301
DTEND;VALUE=DATE:20260309
DTSTAMP:20260423T172511
CREATED:20251124T211654Z
LAST-MODIFIED:20251124T211654Z
UID:10000760-1772323200-1773014399@www.oklahomabaptists.org
SUMMARY:Annie Armstrong Easter Offering Week of Prayer 2026
DESCRIPTION:Annual Week of Prayer and Offering for North American Missionaries.
URL:https://www.oklahomabaptists.org/event/annie-armstrong-easter-offering-week-of-prayer-2026/
LOCATION:OK
CATEGORIES:Women's Missions and Ministries
ORGANIZER;CN="Amy Cordova":MAILTO:acordova@oklahomabaptists.org
END:VEVENT
BEGIN:VEVENT
DTSTART;VALUE=DATE:20260302
DTEND;VALUE=DATE:20260304
DTSTAMP:20260423T172511
CREATED:20250429T213954Z
LAST-MODIFIED:20260119T205159Z
UID:10000650-1772409600-1772582399@www.oklahomabaptists.org
SUMMARY:Advance Conference
DESCRIPTION:Welcome to the Oklahoma Baptists Advance Conference! Prepare to be inspired and encouraged to carry the Gospel to friends and neighbors as you engage and listen to pastors and evangelists from Oklahoma and across the nation. \nPlease check the Advance Conference page for upcoming schedule and more details!
URL:https://www.oklahomabaptists.org/event/advance-conference/
LOCATION:Moore\, First\, 301 NE 27th St.\, Moore\, OK\, 73160\, United States
END:VEVENT
BEGIN:VEVENT
DTSTART;TZID=America/Chicago:20260303T090000
DTEND;TZID=America/Chicago:20260303T120000
DTSTAMP:20260423T172511
CREATED:20251215T223637Z
LAST-MODIFIED:20251215T223637Z
UID:10000774-1772528400-1772539200@www.oklahomabaptists.org
SUMMARY:Advance Conference Women's Breakout
DESCRIPTION:Connie Dixon\, National WMU President\, will serve as the speaker for the Women’s Session on Tuesday morning. This conference is designed to provide leadership development and encouragement for women to advance the gospel in their everyday lives.
URL:https://www.oklahomabaptists.org/event/advance-conference-womens-breakout/
LOCATION:Moore\, First\, 301 NE 27th St.\, Moore\, OK\, 73160\, United States
CATEGORIES:Women's Missions and Ministries
ORGANIZER;CN="Amy Cordova":MAILTO:acordova@oklahomabaptists.org
END:VEVENT
END:VCALENDAR