BEGIN:VCALENDAR
VERSION:2.0
PRODID:-//Oklahoma Baptists - ECPv6.15.17.1//NONSGML v1.0//EN
CALSCALE:GREGORIAN
METHOD:PUBLISH
X-WR-CALNAME:Oklahoma Baptists
X-ORIGINAL-URL:https://www.oklahomabaptists.org
X-WR-CALDESC:Events for Oklahoma Baptists
REFRESH-INTERVAL;VALUE=DURATION:PT1H
X-Robots-Tag:noindex
X-PUBLISHED-TTL:PT1H
BEGIN:VTIMEZONE
TZID:America/Chicago
BEGIN:DAYLIGHT
TZOFFSETFROM:-0600
TZOFFSETTO:-0500
TZNAME:CDT
DTSTART:20230312T080000
END:DAYLIGHT
BEGIN:STANDARD
TZOFFSETFROM:-0500
TZOFFSETTO:-0600
TZNAME:CST
DTSTART:20231105T070000
END:STANDARD
BEGIN:DAYLIGHT
TZOFFSETFROM:-0600
TZOFFSETTO:-0500
TZNAME:CDT
DTSTART:20240310T080000
END:DAYLIGHT
BEGIN:STANDARD
TZOFFSETFROM:-0500
TZOFFSETTO:-0600
TZNAME:CST
DTSTART:20241103T070000
END:STANDARD
BEGIN:DAYLIGHT
TZOFFSETFROM:-0600
TZOFFSETTO:-0500
TZNAME:CDT
DTSTART:20250309T080000
END:DAYLIGHT
BEGIN:STANDARD
TZOFFSETFROM:-0500
TZOFFSETTO:-0600
TZNAME:CST
DTSTART:20251102T070000
END:STANDARD
END:VTIMEZONE
BEGIN:VEVENT
DTSTART;TZID=America/Chicago:20240502T100000
DTEND;TZID=America/Chicago:20240502T140000
DTSTAMP:20260422T172420
CREATED:20240215T144400Z
LAST-MODIFIED:20240401T132942Z
UID:10000455-1714644000-1714658400@www.oklahomabaptists.org
SUMMARY:Global Missions Theological Study
DESCRIPTION:Read with us “The Church and Its Vocation” my Michael Goheen and see how our churches on mission can be obedient to the call from God!
URL:https://www.oklahomabaptists.org/event/global-missions-theological-study/
LOCATION:OKC\, Trinity\, 1329 NW 23rd St\, Oklahoma City\, OK\, 73106\, United States
CATEGORIES:Global Missions
END:VEVENT
END:VCALENDAR