BEGIN:VCALENDAR
VERSION:2.0
PRODID:-//Oklahoma Baptists - ECPv6.15.17.1//NONSGML v1.0//EN
CALSCALE:GREGORIAN
METHOD:PUBLISH
X-ORIGINAL-URL:https://www.oklahomabaptists.org
X-WR-CALDESC:Events for Oklahoma Baptists
REFRESH-INTERVAL;VALUE=DURATION:PT1H
X-Robots-Tag:noindex
X-PUBLISHED-TTL:PT1H
BEGIN:VTIMEZONE
TZID:America/Chicago
BEGIN:DAYLIGHT
TZOFFSETFROM:-0600
TZOFFSETTO:-0500
TZNAME:CDT
DTSTART:20230312T080000
END:DAYLIGHT
BEGIN:STANDARD
TZOFFSETFROM:-0500
TZOFFSETTO:-0600
TZNAME:CST
DTSTART:20231105T070000
END:STANDARD
BEGIN:DAYLIGHT
TZOFFSETFROM:-0600
TZOFFSETTO:-0500
TZNAME:CDT
DTSTART:20240310T080000
END:DAYLIGHT
BEGIN:STANDARD
TZOFFSETFROM:-0500
TZOFFSETTO:-0600
TZNAME:CST
DTSTART:20241103T070000
END:STANDARD
BEGIN:DAYLIGHT
TZOFFSETFROM:-0600
TZOFFSETTO:-0500
TZNAME:CDT
DTSTART:20250309T080000
END:DAYLIGHT
BEGIN:STANDARD
TZOFFSETFROM:-0500
TZOFFSETTO:-0600
TZNAME:CST
DTSTART:20251102T070000
END:STANDARD
END:VTIMEZONE
BEGIN:VEVENT
DTSTART;VALUE=DATE:20240719
DTEND;VALUE=DATE:20240723
DTSTAMP:20260422T230758
CREATED:20240529T153311Z
LAST-MODIFIED:20240529T153311Z
UID:10000516-1721347200-1721692799@www.oklahomabaptists.org
SUMMARY:CrossTimbers Children's Mission Adventure Camp\, Session 11
DESCRIPTION:For children finishing 3rd-6th grade
URL:https://www.oklahomabaptists.org/event/crosstimbers-childrens-mission-adventure-camp-session-11/
LOCATION:CrossTimbers Mission Adventure Camp\, 5039 Hwy 77 South\, Davis\, OK\, 73030\, United States
CATEGORIES:Childhood Ministries
ATTACH;FMTTYPE=image/png:https://cdn.oklahomabaptists.org/20240506203024/MadeNew-10.png
ORGANIZER;CN="Emily Stinnett":MAILTO:estinnett@oklahomabaptists.org
GEO:34.1897162;-97.1431414
X-APPLE-STRUCTURED-LOCATION;VALUE=URI;X-ADDRESS=CrossTimbers Mission Adventure Camp 5039 Hwy 77 South Davis OK 73030 United States;X-APPLE-RADIUS=500;X-TITLE=5039 Hwy 77 South:geo:-97.1431414,34.1897162
END:VEVENT
BEGIN:VEVENT
DTSTART;VALUE=DATE:20240712
DTEND;VALUE=DATE:20240716
DTSTAMP:20260422T230758
CREATED:20240529T154245Z
LAST-MODIFIED:20240529T154245Z
UID:10000515-1720742400-1721087999@www.oklahomabaptists.org
SUMMARY:CrossTimbers Children's Mission Adventure Camp\, Session 10
DESCRIPTION:For children finishing 3rd-6th grade
URL:https://www.oklahomabaptists.org/event/crosstimbers-childrens-mission-adventure-camp-session-10/
LOCATION:CrossTimbers Mission Adventure Camp\, 5039 Hwy 77 South\, Davis\, OK\, 73030\, United States
CATEGORIES:Childhood Ministries
ATTACH;FMTTYPE=image/png:https://cdn.oklahomabaptists.org/20240506202646/MadeNew-9.png
ORGANIZER;CN="Emily Stinnett":MAILTO:estinnett@oklahomabaptists.org
GEO:34.1897162;-97.1431414
X-APPLE-STRUCTURED-LOCATION;VALUE=URI;X-ADDRESS=CrossTimbers Mission Adventure Camp 5039 Hwy 77 South Davis OK 73030 United States;X-APPLE-RADIUS=500;X-TITLE=5039 Hwy 77 South:geo:-97.1431414,34.1897162
END:VEVENT
BEGIN:VEVENT
DTSTART;VALUE=DATE:20240708
DTEND;VALUE=DATE:20240712
DTSTAMP:20260422T230758
CREATED:20240529T154406Z
LAST-MODIFIED:20240529T154406Z
UID:10000514-1720396800-1720742399@www.oklahomabaptists.org
SUMMARY:CrossTimbers Children's Mission Adventure Camp\, Session 9
DESCRIPTION:For children finishing 3rd-6th grade
URL:https://www.oklahomabaptists.org/event/crosstimbers-childrens-mission-adventure-camp-session-9/
LOCATION:CrossTimbers Mission Adventure Camp\, 5039 Hwy 77 South\, Davis\, OK\, 73030\, United States
CATEGORIES:Childhood Ministries
ATTACH;FMTTYPE=image/png:https://cdn.oklahomabaptists.org/20240506202455/MadeNew-8.png
ORGANIZER;CN="Emily Stinnett":MAILTO:estinnett@oklahomabaptists.org
GEO:34.1897162;-97.1431414
X-APPLE-STRUCTURED-LOCATION;VALUE=URI;X-ADDRESS=CrossTimbers Mission Adventure Camp 5039 Hwy 77 South Davis OK 73030 United States;X-APPLE-RADIUS=500;X-TITLE=5039 Hwy 77 South:geo:-97.1431414,34.1897162
END:VEVENT
BEGIN:VEVENT
DTSTART;VALUE=DATE:20240701
DTEND;VALUE=DATE:20240705
DTSTAMP:20260422T230758
CREATED:20240529T154544Z
LAST-MODIFIED:20240529T154544Z
UID:10000513-1719792000-1720137599@www.oklahomabaptists.org
SUMMARY:CrossTimbers Children's Mission Adventure Camp\, Session 8
DESCRIPTION:For children finishing 3rd-6th grade
URL:https://www.oklahomabaptists.org/event/crosstimbers-childrens-mission-adventure-camp-session-8/
LOCATION:CrossTimbers Mission Adventure Camp\, 5039 Hwy 77 South\, Davis\, OK\, 73030\, United States
CATEGORIES:Childhood Ministries
ATTACH;FMTTYPE=image/png:https://cdn.oklahomabaptists.org/20240506202131/MadeNew-7.png
ORGANIZER;CN="Emily Stinnett":MAILTO:estinnett@oklahomabaptists.org
GEO:34.1897162;-97.1431414
X-APPLE-STRUCTURED-LOCATION;VALUE=URI;X-ADDRESS=CrossTimbers Mission Adventure Camp 5039 Hwy 77 South Davis OK 73030 United States;X-APPLE-RADIUS=500;X-TITLE=5039 Hwy 77 South:geo:-97.1431414,34.1897162
END:VEVENT
BEGIN:VEVENT
DTSTART;VALUE=DATE:20240627
DTEND;VALUE=DATE:20240701
DTSTAMP:20260422T230758
CREATED:20240529T154902Z
LAST-MODIFIED:20240529T154902Z
UID:10000512-1719446400-1719791999@www.oklahomabaptists.org
SUMMARY:CrossTimbers Children's Mission Adventure Camp\, Session 7
DESCRIPTION:For children finishing 3rd-6th grade
URL:https://www.oklahomabaptists.org/event/crosstimbers-childrens-mission-adventure-camp-session-7/
LOCATION:CrossTimbers Mission Adventure Camp\, 5039 Hwy 77 South\, Davis\, OK\, 73030\, United States
CATEGORIES:Childhood Ministries
ATTACH;FMTTYPE=image/png:https://cdn.oklahomabaptists.org/20240506201941/MadeNew-6.png
ORGANIZER;CN="Emily Stinnett":MAILTO:estinnett@oklahomabaptists.org
GEO:34.1897162;-97.1431414
X-APPLE-STRUCTURED-LOCATION;VALUE=URI;X-ADDRESS=CrossTimbers Mission Adventure Camp 5039 Hwy 77 South Davis OK 73030 United States;X-APPLE-RADIUS=500;X-TITLE=5039 Hwy 77 South:geo:-97.1431414,34.1897162
END:VEVENT
BEGIN:VEVENT
DTSTART;VALUE=DATE:20240621
DTEND;VALUE=DATE:20240625
DTSTAMP:20260422T230758
CREATED:20240529T155127Z
LAST-MODIFIED:20240529T155127Z
UID:10000511-1718928000-1719273599@www.oklahomabaptists.org
SUMMARY:CrossTimbers Children's Mission Adventure Camp\, Session 6
DESCRIPTION:For children finishing 3rd-6th grade
URL:https://www.oklahomabaptists.org/event/crosstimbers-childrens-mission-adventure-camp-session-6/
LOCATION:CrossTimbers Mission Adventure Camp\, 5039 Hwy 77 South\, Davis\, OK\, 73030\, United States
CATEGORIES:Childhood Ministries
ATTACH;FMTTYPE=image/png:https://cdn.oklahomabaptists.org/20240506201803/MadeNew-5.png
ORGANIZER;CN="Emily Stinnett":MAILTO:estinnett@oklahomabaptists.org
GEO:34.1897162;-97.1431414
X-APPLE-STRUCTURED-LOCATION;VALUE=URI;X-ADDRESS=CrossTimbers Mission Adventure Camp 5039 Hwy 77 South Davis OK 73030 United States;X-APPLE-RADIUS=500;X-TITLE=5039 Hwy 77 South:geo:-97.1431414,34.1897162
END:VEVENT
BEGIN:VEVENT
DTSTART;VALUE=DATE:20240617
DTEND;VALUE=DATE:20240621
DTSTAMP:20260422T230758
CREATED:20240529T155704Z
LAST-MODIFIED:20240529T155704Z
UID:10000510-1718582400-1718927999@www.oklahomabaptists.org
SUMMARY:CrossTimbers Children's Mission Adventure Camp\, Session 5
DESCRIPTION:For children finishing 3rd-6th grade
URL:https://www.oklahomabaptists.org/event/crosstimbers-childrens-mission-adventure-camp-session-5/
LOCATION:CrossTimbers Mission Adventure Camp\, 5039 Hwy 77 South\, Davis\, OK\, 73030\, United States
CATEGORIES:Childhood Ministries
ATTACH;FMTTYPE=image/png:https://cdn.oklahomabaptists.org/20240506201625/MadeNew-4.png
ORGANIZER;CN="Emily Stinnett":MAILTO:estinnett@oklahomabaptists.org
GEO:34.1897162;-97.1431414
X-APPLE-STRUCTURED-LOCATION;VALUE=URI;X-ADDRESS=CrossTimbers Mission Adventure Camp 5039 Hwy 77 South Davis OK 73030 United States;X-APPLE-RADIUS=500;X-TITLE=5039 Hwy 77 South:geo:-97.1431414,34.1897162
END:VEVENT
BEGIN:VEVENT
DTSTART;VALUE=DATE:20240611
DTEND;VALUE=DATE:20240615
DTSTAMP:20260422T230758
CREATED:20240529T160031Z
LAST-MODIFIED:20240529T160031Z
UID:10000509-1718064000-1718409599@www.oklahomabaptists.org
SUMMARY:CrossTimbers Children's Mission Adventure Camp\, Session 4
DESCRIPTION:For children finishing 3rd-6th grade
URL:https://www.oklahomabaptists.org/event/crosstimbers-childrens-mission-adventure-camp-session-4/
LOCATION:CrossTimbers Mission Adventure Camp\, 5039 Hwy 77 South\, Davis\, OK\, 73030\, United States
CATEGORIES:Childhood Ministries
ATTACH;FMTTYPE=image/png:https://cdn.oklahomabaptists.org/20240506201432/MadeNew-3.png
ORGANIZER;CN="Emily Stinnett":MAILTO:estinnett@oklahomabaptists.org
GEO:34.1897162;-97.1431414
X-APPLE-STRUCTURED-LOCATION;VALUE=URI;X-ADDRESS=CrossTimbers Mission Adventure Camp 5039 Hwy 77 South Davis OK 73030 United States;X-APPLE-RADIUS=500;X-TITLE=5039 Hwy 77 South:geo:-97.1431414,34.1897162
END:VEVENT
BEGIN:VEVENT
DTSTART;VALUE=DATE:20240607
DTEND;VALUE=DATE:20240611
DTSTAMP:20260422T230758
CREATED:20240529T160307Z
LAST-MODIFIED:20240529T160307Z
UID:10000508-1717718400-1718063999@www.oklahomabaptists.org
SUMMARY:CrossTimbers Children's Mission Adventure Camp\, Session 3
DESCRIPTION:For children finishing 3rd-6th grade
URL:https://www.oklahomabaptists.org/event/crosstimbers-childrens-mission-adventure-camp-session-3/
LOCATION:CrossTimbers Mission Adventure Camp\, 5039 Hwy 77 South\, Davis\, OK\, 73030\, United States
CATEGORIES:Childhood Ministries
ATTACH;FMTTYPE=image/png:https://cdn.oklahomabaptists.org/20240506201242/MadeNew-2.png
ORGANIZER;CN="Emily Stinnett":MAILTO:estinnett@oklahomabaptists.org
GEO:34.1897162;-97.1431414
X-APPLE-STRUCTURED-LOCATION;VALUE=URI;X-ADDRESS=CrossTimbers Mission Adventure Camp 5039 Hwy 77 South Davis OK 73030 United States;X-APPLE-RADIUS=500;X-TITLE=5039 Hwy 77 South:geo:-97.1431414,34.1897162
END:VEVENT
BEGIN:VEVENT
DTSTART;VALUE=DATE:20240601
DTEND;VALUE=DATE:20240605
DTSTAMP:20260422T230758
CREATED:20240529T161412Z
LAST-MODIFIED:20240529T161412Z
UID:10000505-1717200000-1717545599@www.oklahomabaptists.org
SUMMARY:CrossTimbers Children's Mission Adventure Camp\, Session 2
DESCRIPTION:For children finishing 3rd-6th grade
URL:https://www.oklahomabaptists.org/event/crosstimbers-childrens-mission-adventure-camp-session-2/
LOCATION:CrossTimbers Mission Adventure Camp\, 5039 Hwy 77 South\, Davis\, OK\, 73030\, United States
CATEGORIES:Childhood Ministries
ATTACH;FMTTYPE=image/png:https://cdn.oklahomabaptists.org/20240506200142/MadeNew-1.png
ORGANIZER;CN="Emily Stinnett":MAILTO:estinnett@oklahomabaptists.org
GEO:34.1897162;-97.1431414
X-APPLE-STRUCTURED-LOCATION;VALUE=URI;X-ADDRESS=CrossTimbers Mission Adventure Camp 5039 Hwy 77 South Davis OK 73030 United States;X-APPLE-RADIUS=500;X-TITLE=5039 Hwy 77 South:geo:-97.1431414,34.1897162
END:VEVENT
BEGIN:VEVENT
DTSTART;VALUE=DATE:20240528
DTEND;VALUE=DATE:20240601
DTSTAMP:20260422T230758
CREATED:20240529T162010Z
LAST-MODIFIED:20240529T162010Z
UID:10000504-1716854400-1717199999@www.oklahomabaptists.org
SUMMARY:CrossTimbers Children's Mission Adventure Camp\, Session 1
DESCRIPTION:For children finishing 3rd-6th grade
URL:https://www.oklahomabaptists.org/event/crosstimbers-childrens-mission-adventure-camp-session-1/
LOCATION:CrossTimbers Mission Adventure Camp\, 5039 Hwy 77 South\, Davis\, OK\, 73030\, United States
CATEGORIES:Childhood Ministries
ATTACH;FMTTYPE=image/png:https://cdn.oklahomabaptists.org/20240506195921/MadeNew.png
ORGANIZER;CN="Emily Stinnett":MAILTO:estinnett@oklahomabaptists.org
GEO:34.1897162;-97.1431414
X-APPLE-STRUCTURED-LOCATION;VALUE=URI;X-ADDRESS=CrossTimbers Mission Adventure Camp 5039 Hwy 77 South Davis OK 73030 United States;X-APPLE-RADIUS=500;X-TITLE=5039 Hwy 77 South:geo:-97.1431414,34.1897162
END:VEVENT
BEGIN:VEVENT
DTSTART;VALUE=DATE:20240523
DTEND;VALUE=DATE:20240526
DTSTAMP:20260422T230758
CREATED:20240529T160813Z
LAST-MODIFIED:20240529T160813Z
UID:10000507-1716422400-1716681599@www.oklahomabaptists.org
SUMMARY:Camp Perfect Wings
DESCRIPTION:Camp Perfect Wings is our primary tool for special needs. It is an amazing camp held once a year in the early summer and is designed especially for kids & adults with special needs who are age 8 and up. It includes morning and evening worship\, guided activities like music\, crafts\, water games\, target sports\, motorcycle rides\, horseback riding\, cookout\, and more!
URL:https://www.oklahomabaptists.org/event/camp-perfect-wings/
LOCATION:CrossTimbers Mission Adventure Camp\, 5039 Hwy 77 South\, Davis\, OK\, 73030\, United States
CATEGORIES:Childhood Ministries
ORGANIZER;CN="Emily Stinnett":MAILTO:estinnett@oklahomabaptists.org
GEO:34.1897162;-97.1431414
X-APPLE-STRUCTURED-LOCATION;VALUE=URI;X-ADDRESS=CrossTimbers Mission Adventure Camp 5039 Hwy 77 South Davis OK 73030 United States;X-APPLE-RADIUS=500;X-TITLE=5039 Hwy 77 South:geo:-97.1431414,34.1897162
END:VEVENT
BEGIN:VEVENT
DTSTART;TZID=America/Chicago:20240509T093000
DTEND;TZID=America/Chicago:20240509T133000
DTSTAMP:20260422T230758
CREATED:20230828T202525Z
LAST-MODIFIED:20230920T160549Z
UID:10000378-1715247000-1715261400@www.oklahomabaptists.org
SUMMARY:Community 94
DESCRIPTION:Community 94 is an event designed to provide training\, networking and resources to aid and encourage the ministries of Preschool and Childhood Ministers. The group meets throughout the year at the Oklahoma Baptist Building in Oklahoma City. Each meeting starts with a time of devotion\, followed by fantastic teaching sessions from well-known speakers around the state\, and great times of fellowship. Lunch is included with each meeting. Cost is $150 for all 2024 meetings\, or $30 each. Register and pay at the link provided. \n \nRegister Now
URL:https://www.oklahomabaptists.org/event/community-94-3/
LOCATION:OK
CATEGORIES:Childhood Ministries
END:VEVENT
BEGIN:VEVENT
DTSTART;TZID=America/Chicago:20240425T093000
DTEND;TZID=America/Chicago:20240425T130000
DTSTAMP:20260422T230758
CREATED:20230913T155736Z
LAST-MODIFIED:20230913T155736Z
UID:10000389-1714037400-1714050000@www.oklahomabaptists.org
SUMMARY:Community 94
DESCRIPTION:Community 94 is an event designed to provide training\, networking and resources to aid and encourage the ministries of Preschool and Childhood Ministers. The group meets throughout the year at the Oklahoma Baptist Building in Oklahoma City. Each meeting starts with a time of devotion\, followed by fantastic teaching sessions from well-known speakers around the state\, ministry resources\, and great times of fellowship and networking. Lunch is provided at each meeting. Cost is $150 for all (9) of the 2024 meetings\, or $30 each. Register and pay at the link provided.
URL:https://www.oklahomabaptists.org/event/community-94-9/
LOCATION:OK
CATEGORIES:Childhood Ministries
ATTACH;FMTTYPE=image/jpeg:https://cdn.oklahomabaptists.org/20230913095258/C94-2024-Banner-Landscape-1.jpg
ORGANIZER;CN="Emily Stinnett":MAILTO:estinnett@oklahomabaptists.org
END:VEVENT
END:VCALENDAR