BEGIN:VCALENDAR
VERSION:2.0
PRODID:-//Oklahoma Baptists - ECPv6.15.17.1//NONSGML v1.0//EN
CALSCALE:GREGORIAN
METHOD:PUBLISH
X-ORIGINAL-URL:https://www.oklahomabaptists.org
X-WR-CALDESC:Events for Oklahoma Baptists
REFRESH-INTERVAL;VALUE=DURATION:PT1H
X-Robots-Tag:noindex
X-PUBLISHED-TTL:PT1H
BEGIN:VTIMEZONE
TZID:America/Chicago
BEGIN:DAYLIGHT
TZOFFSETFROM:-0600
TZOFFSETTO:-0500
TZNAME:CDT
DTSTART:20230312T080000
END:DAYLIGHT
BEGIN:STANDARD
TZOFFSETFROM:-0500
TZOFFSETTO:-0600
TZNAME:CST
DTSTART:20231105T070000
END:STANDARD
BEGIN:DAYLIGHT
TZOFFSETFROM:-0600
TZOFFSETTO:-0500
TZNAME:CDT
DTSTART:20240310T080000
END:DAYLIGHT
BEGIN:STANDARD
TZOFFSETFROM:-0500
TZOFFSETTO:-0600
TZNAME:CST
DTSTART:20241103T070000
END:STANDARD
BEGIN:DAYLIGHT
TZOFFSETFROM:-0600
TZOFFSETTO:-0500
TZNAME:CDT
DTSTART:20250309T080000
END:DAYLIGHT
BEGIN:STANDARD
TZOFFSETFROM:-0500
TZOFFSETTO:-0600
TZNAME:CST
DTSTART:20251102T070000
END:STANDARD
BEGIN:DAYLIGHT
TZOFFSETFROM:-0600
TZOFFSETTO:-0500
TZNAME:CDT
DTSTART:20260308T080000
END:DAYLIGHT
BEGIN:STANDARD
TZOFFSETFROM:-0500
TZOFFSETTO:-0600
TZNAME:CST
DTSTART:20261101T070000
END:STANDARD
END:VTIMEZONE
BEGIN:VEVENT
DTSTART;VALUE=DATE:20250602
DTEND;VALUE=DATE:20250607
DTSTAMP:20260420T171531
CREATED:20250113T192319Z
LAST-MODIFIED:20250416T134108Z
UID:10000617-1748822400-1749254399@www.oklahomabaptists.org
SUMMARY:Falls Creek Youth Camp Week 1
DESCRIPTION:Falls Creek Youth Camp Week 1 \nSpeaker: Garret Wagoner\nBand: Cody Dunbar & Together We Worship
URL:https://www.oklahomabaptists.org/event/falls-creek-youth-camp-week-1-3/
LOCATION:Falls Creek Baptist Conference Center\, 6714 Oklahoma 77D\, Davis\, OK\, 73030\, United States
CATEGORIES:Youth
ORGANIZER;CN="Rebekah Brown":MAILTO:rbrown@oklahomabaptists.org
GEO:34.4256173;-97.1120809
X-APPLE-STRUCTURED-LOCATION;VALUE=URI;X-ADDRESS=Falls Creek Baptist Conference Center 6714 Oklahoma 77D Davis OK 73030 United States;X-APPLE-RADIUS=500;X-TITLE=6714 Oklahoma 77D:geo:-97.1120809,34.4256173
END:VEVENT
BEGIN:VEVENT
DTSTART;TZID=America/Chicago:20250410T080000
DTEND;TZID=America/Chicago:20250410T170000
DTSTAMP:20260420T171531
CREATED:20241105T062018Z
LAST-MODIFIED:20241105T062018Z
UID:10000575-1744272000-1744304400@www.oklahomabaptists.org
SUMMARY:Oklahoma Youth Ministry Network Meeting
DESCRIPTION:Oklahoma Youth Ministry Network Trainings (formerly OKYMA) are quarterly training meetings designed to connect youth ministers in practical youth ministry training to sharpen their skills and to fellowship with other like-minded\, youth ministry folks. If you are a youth minister or a lay youth leader in the state of Oklahoma\, you are eligible and encouraged to attend our regular meetings. Check the schedule and make plans to attend.\nMost meetings include:\nRoundtable Discussion\nYouth Ministry helps or ideas\nPractical Youth Ministry training\nFellowship and collaboration
URL:https://www.oklahomabaptists.org/event/oklahoma-youth-ministry-network-meeting-2/
LOCATION:OKC\, Southern Hills\, 8601 S Pennsylvania Ave.\, Oklahoma City\, OK\, 73159\, United States
CATEGORIES:Youth
ORGANIZER;CN="Sarah Wooten":MAILTO:swooten@oklahomabaptists.org
END:VEVENT
BEGIN:VEVENT
DTSTART;TZID=America/Chicago:20250313T093000
DTEND;TZID=America/Chicago:20250313T123000
DTSTAMP:20260420T171531
CREATED:20241105T064516Z
LAST-MODIFIED:20250225T232607Z
UID:10000573-1741858200-1741869000@www.oklahomabaptists.org
SUMMARY:Oklahoma Youth Ministry Network Meeting
DESCRIPTION:Oklahoma Youth Ministry Network Trainings (formerly OKYMA) are quarterly training meetings designed to connect youth ministers in practical youth ministry training to sharpen their skills and to fellowship with other like-minded\, youth ministry folks. If you are a youth minister or a lay youth leader in the state of Oklahoma\, you are eligible and encouraged to attend our regular meetings. Check the schedule and make plans to attend. \nMost meetings include:\nRoundtable Discussion\nYouth Ministry helps or ideas\nPractical Youth Ministry training\nFellowship and collaboration
URL:https://www.oklahomabaptists.org/event/oklahoma-youth-ministry-network-meeting-3/
LOCATION:Edmond\, Waterloo Road\, 3100 E Waterloo Rd\, Edmond\, OK\, 73034\, United States
CATEGORIES:Youth
ORGANIZER;CN="Sarah Wooten":MAILTO:swooten@oklahomabaptists.org
END:VEVENT
BEGIN:VEVENT
DTSTART;TZID=America/Chicago:20250222T100000
DTEND;TZID=America/Chicago:20250222T150000
DTSTAMP:20260420T171531
CREATED:20241105T063908Z
LAST-MODIFIED:20250127T230745Z
UID:10000574-1740218400-1740236400@www.oklahomabaptists.org
SUMMARY:Girls Ministry Workshop
DESCRIPTION:Join us for a time of encouragement and equipping for those serving in Girls Ministry. Angela Sanders\, Kyra Cochran\, and Sarah Wooten will lead sessions focusing on small group best practices\, navigating tough conversations\, and more! Youth Ministers\, register your team (and yourself!) Today! \nGirls Ministry workshop is for adult leaders only. \n9:30am                Doors Open\n10:00am             Session One\n11:00am             Session Two\n11:45am             Lunch (included)\n12:45pm             Session Three\n1:45pm                Session Four\n3pm                       Dismiss \nRegister Now!
URL:https://www.oklahomabaptists.org/event/girls-ministry-workshop-event/
LOCATION:OKC\, Cherokee Hills\, 5700 NW 63rd St\, OKC\, OK\, 73132\, United States
CATEGORIES:Youth
ATTACH;FMTTYPE=image/png:https://cdn.oklahomabaptists.org/20250122091159/Copy-of-Girls-ministry-workshop-1.png
ORGANIZER;CN="Sarah Wooten":MAILTO:swooten@oklahomabaptists.org
END:VEVENT
BEGIN:VEVENT
DTSTART;TZID=America/Chicago:20241121T080000
DTEND;TZID=America/Chicago:20241123T170000
DTSTAMP:20260420T171531
CREATED:20240430T150944Z
LAST-MODIFIED:20240430T150944Z
UID:10000493-1732176000-1732381200@www.oklahomabaptists.org
SUMMARY:OKYM Forum
DESCRIPTION:Anyone serving in youth ministry in the local church! Forum provides general sessions and topical breakouts for full-time\, bi-vocational\, or volunteer youth ministers\, youth ministers’ spouses\, volunteer workers/interns\, or youth worker teams. The OKYM Forum is open to all youth workers\, not just church staff.
URL:https://www.oklahomabaptists.org/event/okym-forum-2/
LOCATION:Falls Creek Baptist Conference Center\, 6714 Oklahoma 77D\, Davis\, OK\, 73030\, United States
CATEGORIES:Youth
ORGANIZER;CN="Todd Sanders":MAILTO:tsanders@oklahomabaptists.org
GEO:34.4256173;-97.1120809
X-APPLE-STRUCTURED-LOCATION;VALUE=URI;X-ADDRESS=Falls Creek Baptist Conference Center 6714 Oklahoma 77D Davis OK 73030 United States;X-APPLE-RADIUS=500;X-TITLE=6714 Oklahoma 77D:geo:-97.1120809,34.4256173
END:VEVENT
BEGIN:VEVENT
DTSTART;TZID=America/Chicago:20241018T140000
DTEND;TZID=America/Chicago:20241019T160000
DTSTAMP:20260420T171531
CREATED:20240916T183534Z
LAST-MODIFIED:20240916T183534Z
UID:10000548-1729260000-1729353600@www.oklahomabaptists.org
SUMMARY:Fall Back Weekend
DESCRIPTION:This 24-hour retreat at Falls Creek provides a great mid-semester break for students during their busy fall season.
URL:https://www.oklahomabaptists.org/event/fall-back-weekend/
LOCATION:Falls Creek Baptist Conference Center\, 6714 Oklahoma 77D\, Davis\, OK\, 73030\, United States
CATEGORIES:Youth
ATTACH;FMTTYPE=image/png:https://cdn.oklahomabaptists.org/20240910090811/1.png
ORGANIZER;CN="Jordan Anson":MAILTO:janson@oklahomabaptists.org
GEO:34.4256173;-97.1120809
X-APPLE-STRUCTURED-LOCATION;VALUE=URI;X-ADDRESS=Falls Creek Baptist Conference Center 6714 Oklahoma 77D Davis OK 73030 United States;X-APPLE-RADIUS=500;X-TITLE=6714 Oklahoma 77D:geo:-97.1120809,34.4256173
END:VEVENT
BEGIN:VEVENT
DTSTART;TZID=America/Chicago:20240925T070000
DTEND;TZID=America/Chicago:20240925T083000
DTSTAMP:20260420T171531
CREATED:20240430T145509Z
LAST-MODIFIED:20240430T145509Z
UID:10000498-1727247600-1727253000@www.oklahomabaptists.org
SUMMARY:See you at the Pole
DESCRIPTION:t’s about one simple thing—STUDENTS in PRAYER. \nTWO opportunities to unite in prayer with your friends: \nDAY: September 25\, 2024\, 7am local time. Around the globe\, students meet at flagpoles to pray for their schools. \nWEEK: The Global Week of Student Prayer\, Sept 23 – Sept 27\, 2024. Public\, private\, or home school students\, pray in unique ways\, places and times all week. Some will launch on-campus Bible clubs.
URL:https://www.oklahomabaptists.org/event/see-you-at-the-pole/
CATEGORIES:Youth
ATTACH;FMTTYPE=image/jpeg:https://cdn.oklahomabaptists.org/20240425111620/SYATP-Photo.jpg
END:VEVENT
BEGIN:VEVENT
DTSTART;TZID=America/Chicago:20240914T093000
DTEND;TZID=America/Chicago:20240914T160000
DTSTAMP:20260420T171531
CREATED:20240201T182604Z
LAST-MODIFIED:20240827T163637Z
UID:10000430-1726306200-1726329600@www.oklahomabaptists.org
SUMMARY:OKYM Girls Conference
DESCRIPTION:Cost: $15/Person (before Sept. 3rd\, $25/person after) \nTime: 10am-4pm (registration will open at 9:30am) \nDate: September 14\, 2024 \nLocation: Emmaus Baptist Church \n“Remain in me\, and I in you” \nWhat does it look like to Dwell in the Lord\, how do we know what Jesus is about? During this years Girls Conference\, we will take a look at that question. Our main sessions will address abiding/dwelling in Christ and our straight talk sessions will address practical approaches from bible study\, prayer\, service and worship.
URL:https://www.oklahomabaptists.org/event/okym-girls-conference-2/
LOCATION:OKC\, Emmaus\, 16001 S Western Ave.\, Oklahoma City\, OK\, 73170\, United States
CATEGORIES:Youth
ORGANIZER;CN="Sarah Wooten":MAILTO:swooten@oklahomabaptists.org
GEO:35.3096303;-97.5299079
X-APPLE-STRUCTURED-LOCATION;VALUE=URI;X-ADDRESS=OKC Emmaus 16001 S Western Ave. Oklahoma City OK 73170 United States;X-APPLE-RADIUS=500;X-TITLE=16001 S Western Ave.:geo:-97.5299079,35.3096303
END:VEVENT
BEGIN:VEVENT
DTSTART;TZID=America/Chicago:20240912T093000
DTEND;TZID=America/Chicago:20240912T133000
DTSTAMP:20260420T171531
CREATED:20240430T150629Z
LAST-MODIFIED:20240903T163836Z
UID:10000495-1726133400-1726147800@www.oklahomabaptists.org
SUMMARY:OKYM Network Meeting
DESCRIPTION:Oklahoma Youth Ministry (OKYM) Network provides training as well as community with other youth ministers & leaders from around the state. \nOKYM Network meets for three quarterly half-day meetings and a fourth\, two-day meeting at the Oklahoma Youth Ministry Forum event. \nMeetings include:\n• Prayer & Encouragement\n• Roundtable Discussion\n• Youth Ministry helps and ideas\n• Practical Youth Ministry training\n• Fellowship and collaboration \nOptional $5 dollar lunch
URL:https://www.oklahomabaptists.org/event/okym-network-meeting-4/
CATEGORIES:Youth Leadership Networks
END:VEVENT
BEGIN:VEVENT
DTSTART;TZID=America/Chicago:20240824T083000
DTEND;TZID=America/Chicago:20240824T160000
DTSTAMP:20260420T171531
CREATED:20240430T150756Z
LAST-MODIFIED:20240430T150756Z
UID:10000494-1724488200-1724515200@www.oklahomabaptists.org
SUMMARY:The Call Conference
DESCRIPTION:The Call Conference is designed for individuals who are exploring or pursuing a call from God to ministry leadership. We encourage middle school\, high school\, and college students\, who feel God may be calling them into ministry to attend. \nIt’s the foundational question that must be answered by anyone considering entry into ministry or mission’s leadership and then revisited regularly over a lifetime. God is calling out a new generation of kingdom leaders out of Oklahoma who will accelerate the fulfillment of the Great Commission in this generation. The Call Conference will help students cut to the heart of the matter and give them tools to work through the call process. Join us for… THE CALL Conference.
URL:https://www.oklahomabaptists.org/event/the-call-conference-2/
LOCATION:Oklahoma Baptist University\, 500 West University\, Shawnee\, OK\, 74804\, United States
CATEGORIES:Youth
ATTACH;FMTTYPE=image/jpeg:https://cdn.oklahomabaptists.org/20240425104642/The_Call_2024_Slide-3.jpg
GEO:35.3590518;-96.9310207
X-APPLE-STRUCTURED-LOCATION;VALUE=URI;X-ADDRESS=Oklahoma Baptist University 500 West University Shawnee OK 74804 United States;X-APPLE-RADIUS=500;X-TITLE=500 West University:geo:-96.9310207,35.3590518
END:VEVENT
BEGIN:VEVENT
DTSTART;TZID=America/Chicago:20240722T080000
DTEND;TZID=America/Chicago:20240726T170000
DTSTAMP:20260420T171531
CREATED:20240430T153157Z
LAST-MODIFIED:20240430T153157Z
UID:10000489-1721635200-1722013200@www.oklahomabaptists.org
SUMMARY:Falls Creek Youth Camp Week 8
DESCRIPTION:Falls Creek Youth Camp Week 8 \nSpeaker: Zack Randles\nBand: Denver Duncan
URL:https://www.oklahomabaptists.org/event/falls-creek-youth-camp-week-8/
LOCATION:Falls Creek Baptist Conference Center\, 6714 Oklahoma 77D\, Davis\, OK\, 73030\, United States
CATEGORIES:Youth
ATTACH;FMTTYPE=image/png:https://cdn.oklahomabaptists.org/20240425095623/theme-with-verse-4-7.png
ORGANIZER;CN="Todd Sanders":MAILTO:tsanders@oklahomabaptists.org
GEO:34.4256173;-97.1120809
X-APPLE-STRUCTURED-LOCATION;VALUE=URI;X-ADDRESS=Falls Creek Baptist Conference Center 6714 Oklahoma 77D Davis OK 73030 United States;X-APPLE-RADIUS=500;X-TITLE=6714 Oklahoma 77D:geo:-97.1120809,34.4256173
END:VEVENT
BEGIN:VEVENT
DTSTART;TZID=America/Chicago:20240715T080000
DTEND;TZID=America/Chicago:20240719T170000
DTSTAMP:20260420T171531
CREATED:20240430T154106Z
LAST-MODIFIED:20240430T154106Z
UID:10000488-1721030400-1721408400@www.oklahomabaptists.org
SUMMARY:Falls Creek Youth Camp Week 7
DESCRIPTION:Falls Creek Youth Camp Week 7 \nSpeaker: Ryan Fontenot\nBand: Robertson
URL:https://www.oklahomabaptists.org/event/falls-creek-youth-camp-week-7-2/
LOCATION:Falls Creek Baptist Conference Center\, 6714 Oklahoma 77D\, Davis\, OK\, 73030\, United States
CATEGORIES:Youth
ATTACH;FMTTYPE=image/png:https://cdn.oklahomabaptists.org/20240425095403/theme-with-verse-4-6.png
ORGANIZER;CN="Todd Sanders":MAILTO:tsanders@oklahomabaptists.org
GEO:34.4256173;-97.1120809
X-APPLE-STRUCTURED-LOCATION;VALUE=URI;X-ADDRESS=Falls Creek Baptist Conference Center 6714 Oklahoma 77D Davis OK 73030 United States;X-APPLE-RADIUS=500;X-TITLE=6714 Oklahoma 77D:geo:-97.1120809,34.4256173
END:VEVENT
BEGIN:VEVENT
DTSTART;TZID=America/Chicago:20240708T080000
DTEND;TZID=America/Chicago:20240712T170000
DTSTAMP:20260420T171531
CREATED:20240430T154403Z
LAST-MODIFIED:20240430T154403Z
UID:10000487-1720425600-1720803600@www.oklahomabaptists.org
SUMMARY:Falls Creek Youth Camp Week 6
DESCRIPTION:Falls Creek Youth Camp Week 6 \nSpeaker: Jamie Dew\nBand: Nate Jernigan
URL:https://www.oklahomabaptists.org/event/falls-creek-youth-camp-week-6-2/
LOCATION:Falls Creek Baptist Conference Center\, 6714 Oklahoma 77D\, Davis\, OK\, 73030\, United States
CATEGORIES:Youth
ATTACH;FMTTYPE=image/png:https://cdn.oklahomabaptists.org/20240425095254/theme-with-verse-4-5.png
ORGANIZER;CN="Todd Sanders":MAILTO:tsanders@oklahomabaptists.org
GEO:34.4256173;-97.1120809
X-APPLE-STRUCTURED-LOCATION;VALUE=URI;X-ADDRESS=Falls Creek Baptist Conference Center 6714 Oklahoma 77D Davis OK 73030 United States;X-APPLE-RADIUS=500;X-TITLE=6714 Oklahoma 77D:geo:-97.1120809,34.4256173
END:VEVENT
BEGIN:VEVENT
DTSTART;TZID=America/Chicago:20240701T080000
DTEND;TZID=America/Chicago:20240705T170000
DTSTAMP:20260420T171531
CREATED:20240430T155016Z
LAST-MODIFIED:20240430T155016Z
UID:10000486-1719820800-1720198800@www.oklahomabaptists.org
SUMMARY:Falls Creek Youth Camp Week 5
DESCRIPTION:Falls Creek Youth Camp Week 5 \nSpeaker: Ryan Fontenot\nBand: Worship Collective
URL:https://www.oklahomabaptists.org/event/falls-creek-youth-camp-week-5-2/
LOCATION:Falls Creek Baptist Conference Center\, 6714 Oklahoma 77D\, Davis\, OK\, 73030\, United States
CATEGORIES:Youth
ATTACH;FMTTYPE=image/png:https://cdn.oklahomabaptists.org/20240425095125/theme-with-verse-4-4.png
ORGANIZER;CN="Todd Sanders":MAILTO:tsanders@oklahomabaptists.org
GEO:34.4256173;-97.1120809
X-APPLE-STRUCTURED-LOCATION;VALUE=URI;X-ADDRESS=Falls Creek Baptist Conference Center 6714 Oklahoma 77D Davis OK 73030 United States;X-APPLE-RADIUS=500;X-TITLE=6714 Oklahoma 77D:geo:-97.1120809,34.4256173
END:VEVENT
BEGIN:VEVENT
DTSTART;TZID=America/Chicago:20240624T080000
DTEND;TZID=America/Chicago:20240628T170000
DTSTAMP:20260420T171531
CREATED:20240430T155409Z
LAST-MODIFIED:20240430T155409Z
UID:10000485-1719216000-1719594000@www.oklahomabaptists.org
SUMMARY:Falls Creek Youth Camp Week 4
DESCRIPTION:Falls Creek Youth Camp Week 4 \nSpeaker: Paul Chitwood\nBand: Cody Dunbar
URL:https://www.oklahomabaptists.org/event/falls-creek-youth-camp-week-4-2/
LOCATION:Falls Creek Baptist Conference Center\, 6714 Oklahoma 77D\, Davis\, OK\, 73030\, United States
CATEGORIES:Youth
ATTACH;FMTTYPE=image/png:https://cdn.oklahomabaptists.org/20240425095010/theme-with-verse-4-3.png
ORGANIZER;CN="Todd Sanders":MAILTO:tsanders@oklahomabaptists.org
GEO:34.4256173;-97.1120809
X-APPLE-STRUCTURED-LOCATION;VALUE=URI;X-ADDRESS=Falls Creek Baptist Conference Center 6714 Oklahoma 77D Davis OK 73030 United States;X-APPLE-RADIUS=500;X-TITLE=6714 Oklahoma 77D:geo:-97.1120809,34.4256173
END:VEVENT
BEGIN:VEVENT
DTSTART;TZID=America/Chicago:20240617T080000
DTEND;TZID=America/Chicago:20240621T170000
DTSTAMP:20260420T171531
CREATED:20240502T135104Z
LAST-MODIFIED:20240502T135104Z
UID:10000484-1718611200-1718989200@www.oklahomabaptists.org
SUMMARY:Falls Creek Youth Camp Week 3
DESCRIPTION:Falls Creek Youth Camp Week 3 \nSpeaker: Cody Brumley\nBand: Carson Wagner
URL:https://www.oklahomabaptists.org/event/falls-creek-youth-camp-week-3-2/
LOCATION:Falls Creek Baptist Conference Center\, 6714 Oklahoma 77D\, Davis\, OK\, 73030\, United States
CATEGORIES:Youth
ATTACH;FMTTYPE=image/png:https://cdn.oklahomabaptists.org/20240425094852/theme-with-verse-4-2.png
ORGANIZER;CN="Todd Sanders":MAILTO:tsanders@oklahomabaptists.org
GEO:34.4256173;-97.1120809
X-APPLE-STRUCTURED-LOCATION;VALUE=URI;X-ADDRESS=Falls Creek Baptist Conference Center 6714 Oklahoma 77D Davis OK 73030 United States;X-APPLE-RADIUS=500;X-TITLE=6714 Oklahoma 77D:geo:-97.1120809,34.4256173
END:VEVENT
BEGIN:VEVENT
DTSTART;TZID=America/Chicago:20240610T080000
DTEND;TZID=America/Chicago:20240614T170000
DTSTAMP:20260420T171531
CREATED:20240502T135319Z
LAST-MODIFIED:20240502T135319Z
UID:10000483-1718006400-1718384400@www.oklahomabaptists.org
SUMMARY:Falls Creek Youth Camp Week 2
DESCRIPTION:Falls Creek Youth Camp Week 2 \nSpeaker: Duncan Blackwell\nBand: Worship Collective
URL:https://www.oklahomabaptists.org/event/falls-creek-youth-camp-week-2/
LOCATION:Falls Creek Baptist Conference Center\, 6714 Oklahoma 77D\, Davis\, OK\, 73030\, United States
CATEGORIES:Youth
ATTACH;FMTTYPE=image/png:https://cdn.oklahomabaptists.org/20240425094727/theme-with-verse-4-1.png
ORGANIZER;CN="Todd Sanders":MAILTO:tsanders@oklahomabaptists.org
GEO:34.4256173;-97.1120809
X-APPLE-STRUCTURED-LOCATION;VALUE=URI;X-ADDRESS=Falls Creek Baptist Conference Center 6714 Oklahoma 77D Davis OK 73030 United States;X-APPLE-RADIUS=500;X-TITLE=6714 Oklahoma 77D:geo:-97.1120809,34.4256173
END:VEVENT
BEGIN:VEVENT
DTSTART;TZID=America/Chicago:20240603T080000
DTEND;TZID=America/Chicago:20240607T170000
DTSTAMP:20260420T171531
CREATED:20240502T135502Z
LAST-MODIFIED:20240502T135502Z
UID:10000482-1717401600-1717779600@www.oklahomabaptists.org
SUMMARY:Falls Creek Youth Camp Week 1
DESCRIPTION:Falls Creek Youth Camp Week 1 \nSpeaker: Chip Luter\nBand: So We May
URL:https://www.oklahomabaptists.org/event/falls-creek-youth-camp-week-1-2/
LOCATION:Falls Creek Baptist Conference Center\, 6714 Oklahoma 77D\, Davis\, OK\, 73030\, United States
CATEGORIES:Youth
ATTACH;FMTTYPE=image/png:https://cdn.oklahomabaptists.org/20240425094541/theme-with-verse-4.png
ORGANIZER;CN="Todd Sanders":MAILTO:tsanders@oklahomabaptists.org
GEO:34.4256173;-97.1120809
X-APPLE-STRUCTURED-LOCATION;VALUE=URI;X-ADDRESS=Falls Creek Baptist Conference Center 6714 Oklahoma 77D Davis OK 73030 United States;X-APPLE-RADIUS=500;X-TITLE=6714 Oklahoma 77D:geo:-97.1120809,34.4256173
END:VEVENT
END:VCALENDAR