BEGIN:VCALENDAR
VERSION:2.0
PRODID:-//Oklahoma Baptists - ECPv6.15.17.1//NONSGML v1.0//EN
CALSCALE:GREGORIAN
METHOD:PUBLISH
X-ORIGINAL-URL:https://www.oklahomabaptists.org
X-WR-CALDESC:Events for Oklahoma Baptists
REFRESH-INTERVAL;VALUE=DURATION:PT1H
X-Robots-Tag:noindex
X-PUBLISHED-TTL:PT1H
BEGIN:VTIMEZONE
TZID:America/Chicago
BEGIN:DAYLIGHT
TZOFFSETFROM:-0600
TZOFFSETTO:-0500
TZNAME:CDT
DTSTART:20230312T080000
END:DAYLIGHT
BEGIN:STANDARD
TZOFFSETFROM:-0500
TZOFFSETTO:-0600
TZNAME:CST
DTSTART:20231105T070000
END:STANDARD
BEGIN:DAYLIGHT
TZOFFSETFROM:-0600
TZOFFSETTO:-0500
TZNAME:CDT
DTSTART:20240310T080000
END:DAYLIGHT
BEGIN:STANDARD
TZOFFSETFROM:-0500
TZOFFSETTO:-0600
TZNAME:CST
DTSTART:20241103T070000
END:STANDARD
BEGIN:DAYLIGHT
TZOFFSETFROM:-0600
TZOFFSETTO:-0500
TZNAME:CDT
DTSTART:20250309T080000
END:DAYLIGHT
BEGIN:STANDARD
TZOFFSETFROM:-0500
TZOFFSETTO:-0600
TZNAME:CST
DTSTART:20251102T070000
END:STANDARD
END:VTIMEZONE
BEGIN:VEVENT
DTSTART;TZID=America/Chicago:20241107T190000
DTEND;TZID=America/Chicago:20241107T203000
DTSTAMP:20260423T185629
CREATED:20240717T135012Z
LAST-MODIFIED:20240717T135012Z
UID:10000536-1731006000-1731011400@www.oklahomabaptists.org
SUMMARY:Singing ChurchWomen
DESCRIPTION:Come hear the wonderful SCW in concert!
URL:https://www.oklahomabaptists.org/event/singing-churchwomen-10/
LOCATION:Tulsa\, South Tulsa\, 10310 South Sheridan Road\, Tulsa\, OK\, 74133\, United States
CATEGORIES:Singing ChurchWomen,Worship and Music Ministry
GEO:36.0143107;-95.9043673
X-APPLE-STRUCTURED-LOCATION;VALUE=URI;X-ADDRESS=Tulsa South Tulsa 10310 South Sheridan Road Tulsa OK 74133 United States;X-APPLE-RADIUS=500;X-TITLE=10310 South Sheridan Road:geo:-95.9043673,36.0143107
END:VEVENT
BEGIN:VEVENT
DTSTART;VALUE=DATE:20241108
DTEND;VALUE=DATE:20241111
DTSTAMP:20260423T185629
CREATED:20240529T172832Z
LAST-MODIFIED:20240529T172832Z
UID:10000469-1731024000-1731283199@www.oklahomabaptists.org
SUMMARY:Oklahoma Student Worship Choir
DESCRIPTION:OSWC Weekend Retreat at New Life Ranch/Inola\, FBC/Tulsa\, Eastern Heights
URL:https://www.oklahomabaptists.org/event/oklahoma-student-worship-choir-9/
LOCATION:Inola\, First\, 500 E. Commercial Street\, Inola\, OK\, 74036\, United States
CATEGORIES:Student Worship Choir,Worship and Music Ministry
GEO:36.156004;-95.502182
X-APPLE-STRUCTURED-LOCATION;VALUE=URI;X-ADDRESS=Inola First 500 E. Commercial Street Inola OK 74036 United States;X-APPLE-RADIUS=500;X-TITLE=500 E. Commercial Street:geo:-95.502182,36.156004
END:VEVENT
BEGIN:VEVENT
DTSTART;TZID=America/Chicago:20241108T090000
DTEND;TZID=America/Chicago:20241108T160000
DTSTAMP:20260423T185629
CREATED:20240916T134721Z
LAST-MODIFIED:20240916T134721Z
UID:10000560-1731056400-1731081600@www.oklahomabaptists.org
SUMMARY:Annual Chaplain Refresher
DESCRIPTION:This event is for chaplains who need to meet their annual training requirements. The cost is $10.00 and lunch is provided. Please register by emailing pjones@oklahomabaptists.org.
URL:https://www.oklahomabaptists.org/event/annual-chaplain-refresher-2/
LOCATION:McAlester\, First\, 100 E. Washington Ave.\, McAlester\, OK\, 74501\, United States
CATEGORIES:Chaplaincy
ORGANIZER;CN="Pat Jones":MAILTO:pjones@oklahomabaptists.org
GEO:34.9277649;-95.7130932
X-APPLE-STRUCTURED-LOCATION;VALUE=URI;X-ADDRESS=McAlester First 100 E. Washington Ave. McAlester OK 74501 United States;X-APPLE-RADIUS=500;X-TITLE=100 E. Washington Ave.:geo:-95.7130932,34.9277649
END:VEVENT
BEGIN:VEVENT
DTSTART;TZID=America/Chicago:20241109T083000
DTEND;TZID=America/Chicago:20241109T120000
DTSTAMP:20260423T185629
CREATED:20240710T200156Z
LAST-MODIFIED:20241010T134158Z
UID:10000530-1731141000-1731153600@www.oklahomabaptists.org
SUMMARY:Let's Go. Sending Conference
DESCRIPTION:Let’s Go. Sending Conference
URL:https://www.oklahomabaptists.org/event/lets-go-sending-conference-7/
LOCATION:Enid\, Emmanuel\, 2505 West Owen K. Garriott Road\, Enid\, OK\, 73703\, United States
CATEGORIES:Global Missions
ATTACH;FMTTYPE=image/jpeg:https://cdn.oklahomabaptists.org/20240610080205/Square-lets-go-final.jpg
GEO:36.389508;-97.909823
X-APPLE-STRUCTURED-LOCATION;VALUE=URI;X-ADDRESS=Enid Emmanuel 2505 West Owen K. Garriott Road Enid OK 73703 United States;X-APPLE-RADIUS=500;X-TITLE=2505 West Owen K. Garriott Road:geo:-97.909823,36.389508
END:VEVENT
BEGIN:VEVENT
DTSTART;TZID=America/Chicago:20241109T090000
DTEND;TZID=America/Chicago:20241109T160000
DTSTAMP:20260423T185629
CREATED:20240916T133330Z
LAST-MODIFIED:20240916T133330Z
UID:10000561-1731142800-1731168000@www.oklahomabaptists.org
SUMMARY:Annual Chaplain Refresher
DESCRIPTION:This event is for chaplains who need to meet their annual training requirements. This training will be at Zaneis Baptist in Wilson. The cost is $10.00 and lunch is provided. Please register by emailing pjones@oklahomabaptists.org.
URL:https://www.oklahomabaptists.org/event/annual-chaplain-refresher/
LOCATION:TBD\, OK\, United States
CATEGORIES:Chaplaincy
ORGANIZER;CN="Pat Jones":MAILTO:pjones@oklahomabaptists.org
GEO:35.0077519;-97.092877
END:VEVENT
END:VCALENDAR