BEGIN:VCALENDAR
VERSION:2.0
PRODID:-//Oklahoma Baptists - ECPv6.15.17.1//NONSGML v1.0//EN
CALSCALE:GREGORIAN
METHOD:PUBLISH
X-WR-CALNAME:Oklahoma Baptists
X-ORIGINAL-URL:https://www.oklahomabaptists.org
X-WR-CALDESC:Events for Oklahoma Baptists
REFRESH-INTERVAL;VALUE=DURATION:PT1H
X-Robots-Tag:noindex
X-PUBLISHED-TTL:PT1H
BEGIN:VTIMEZONE
TZID:America/Chicago
BEGIN:DAYLIGHT
TZOFFSETFROM:-0600
TZOFFSETTO:-0500
TZNAME:CDT
DTSTART:20240310T080000
END:DAYLIGHT
BEGIN:STANDARD
TZOFFSETFROM:-0500
TZOFFSETTO:-0600
TZNAME:CST
DTSTART:20241103T070000
END:STANDARD
BEGIN:DAYLIGHT
TZOFFSETFROM:-0600
TZOFFSETTO:-0500
TZNAME:CDT
DTSTART:20250309T080000
END:DAYLIGHT
BEGIN:STANDARD
TZOFFSETFROM:-0500
TZOFFSETTO:-0600
TZNAME:CST
DTSTART:20251102T070000
END:STANDARD
BEGIN:DAYLIGHT
TZOFFSETFROM:-0600
TZOFFSETTO:-0500
TZNAME:CDT
DTSTART:20260308T080000
END:DAYLIGHT
BEGIN:STANDARD
TZOFFSETFROM:-0500
TZOFFSETTO:-0600
TZNAME:CST
DTSTART:20261101T070000
END:STANDARD
END:VTIMEZONE
BEGIN:VEVENT
DTSTART;TZID=America/Chicago:20250908T183000
DTEND;TZID=America/Chicago:20250908T200000
DTSTAMP:20260421T033725
CREATED:20250807T210309Z
LAST-MODIFIED:20250814T203016Z
UID:10000670-1757356200-1757361600@www.oklahomabaptists.org
SUMMARY:Women's Leadership Training-Guymon\, Sunset Lane
DESCRIPTION:Theme: Draw Near\nBased on Hebrews 10:22–25 \nThese events are designed to equip women to: \n• Grow in their walk with God\n• Build Christ-centered friendships\n• Lead others to live on mission \nCome for hands-on training\, ministry highlights\, and meaningful conversations. Plus\, enjoy a sneak peek of the 2026 Women’s Retreat.
URL:https://www.oklahomabaptists.org/event/womens-leadership-training-guymon-sunset-lane/
LOCATION:Guymon\, Sunset Lane\, 1515 N. Sunset Lane\, Guymon\, OK\, 73942\, United States
CATEGORIES:Women's Missions and Ministries
ORGANIZER;CN="Amy Cordova":MAILTO:acordova@oklahomabaptists.org
GEO:36.693424;-101.491695
X-APPLE-STRUCTURED-LOCATION;VALUE=URI;X-ADDRESS=Guymon Sunset Lane 1515 N. Sunset Lane Guymon OK 73942 United States;X-APPLE-RADIUS=500;X-TITLE=1515 N. Sunset Lane:geo:-101.491695,36.693424
END:VEVENT
END:VCALENDAR