BEGIN:VCALENDAR
VERSION:2.0
PRODID:-//Oklahoma Baptists - ECPv6.15.17.1//NONSGML v1.0//EN
CALSCALE:GREGORIAN
METHOD:PUBLISH
X-WR-CALNAME:Oklahoma Baptists
X-ORIGINAL-URL:https://www.oklahomabaptists.org
X-WR-CALDESC:Events for Oklahoma Baptists
REFRESH-INTERVAL;VALUE=DURATION:PT1H
X-Robots-Tag:noindex
X-PUBLISHED-TTL:PT1H
BEGIN:VTIMEZONE
TZID:America/Chicago
BEGIN:DAYLIGHT
TZOFFSETFROM:-0600
TZOFFSETTO:-0500
TZNAME:CDT
DTSTART:20240310T080000
END:DAYLIGHT
BEGIN:STANDARD
TZOFFSETFROM:-0500
TZOFFSETTO:-0600
TZNAME:CST
DTSTART:20241103T070000
END:STANDARD
BEGIN:DAYLIGHT
TZOFFSETFROM:-0600
TZOFFSETTO:-0500
TZNAME:CDT
DTSTART:20250309T080000
END:DAYLIGHT
BEGIN:STANDARD
TZOFFSETFROM:-0500
TZOFFSETTO:-0600
TZNAME:CST
DTSTART:20251102T070000
END:STANDARD
BEGIN:DAYLIGHT
TZOFFSETFROM:-0600
TZOFFSETTO:-0500
TZNAME:CDT
DTSTART:20260308T080000
END:DAYLIGHT
BEGIN:STANDARD
TZOFFSETFROM:-0500
TZOFFSETTO:-0600
TZNAME:CST
DTSTART:20261101T070000
END:STANDARD
BEGIN:DAYLIGHT
TZOFFSETFROM:-0600
TZOFFSETTO:-0500
TZNAME:CDT
DTSTART:20270314T080000
END:DAYLIGHT
BEGIN:STANDARD
TZOFFSETFROM:-0500
TZOFFSETTO:-0600
TZNAME:CST
DTSTART:20271107T070000
END:STANDARD
END:VTIMEZONE
BEGIN:VEVENT
DTSTART;TZID=America/Chicago:20260215T180000
DTEND;TZID=America/Chicago:20260215T190000
DTSTAMP:20260420T224822
CREATED:20251003T170600Z
LAST-MODIFIED:20251003T170600Z
UID:10000737-1771178400-1771182000@www.oklahomabaptists.org
SUMMARY:Oklahoma Student Worship Choir
DESCRIPTION:Come hear the OSWC!
URL:https://www.oklahomabaptists.org/event/oklahoma-student-worship-choir-16/
LOCATION:Midwest City\, Meadowood\, OK
CATEGORIES:Student Worship Choir,Worship and Music Ministry
GEO:35.0077519;-97.092877
END:VEVENT
BEGIN:VEVENT
DTSTART;TZID=America/Chicago:20251016T093000
DTEND;TZID=America/Chicago:20251016T133000
DTSTAMP:20260420T224822
CREATED:20241029T164604Z
LAST-MODIFIED:20241029T164604Z
UID:10000603-1760607000-1760621400@www.oklahomabaptists.org
SUMMARY:Oklahoma Baptists Children's Ministry Association
DESCRIPTION:Children’s Ministry Association (formerly Community 94) is a group designed to invest in the lives and ministries of Preschool and Childhood Ministers. The group meets throughout the year at various locations. \nEach meeting starts with a morning devotion time in God’s Word\, followed by fantastic teaching sessions from well-known speakers on relevant topics. You’ll learn about various ministry resources and enjoy fellowship and networking with other Preschool and Childhood Ministers and volunteers. Lunch is included with each meeting\, and we often have fun and useful giveaways for those in attendance!
URL:https://www.oklahomabaptists.org/event/oklahoma-baptists-childrens-ministry-association/
LOCATION:Midwest City\, Meadowood\, OK
CATEGORIES:Childhood Ministries
ORGANIZER;CN="Emily Stinnett":MAILTO:estinnett@oklahomabaptists.org
GEO:35.0077519;-97.092877
END:VEVENT
END:VCALENDAR