BEGIN:VCALENDAR
VERSION:2.0
PRODID:-//Oklahoma Baptists - ECPv6.15.17.1//NONSGML v1.0//EN
CALSCALE:GREGORIAN
METHOD:PUBLISH
X-WR-CALNAME:Oklahoma Baptists
X-ORIGINAL-URL:https://www.oklahomabaptists.org
X-WR-CALDESC:Events for Oklahoma Baptists
REFRESH-INTERVAL;VALUE=DURATION:PT1H
X-Robots-Tag:noindex
X-PUBLISHED-TTL:PT1H
BEGIN:VTIMEZONE
TZID:America/Chicago
BEGIN:DAYLIGHT
TZOFFSETFROM:-0600
TZOFFSETTO:-0500
TZNAME:CDT
DTSTART:20240310T080000
END:DAYLIGHT
BEGIN:STANDARD
TZOFFSETFROM:-0500
TZOFFSETTO:-0600
TZNAME:CST
DTSTART:20241103T070000
END:STANDARD
BEGIN:DAYLIGHT
TZOFFSETFROM:-0600
TZOFFSETTO:-0500
TZNAME:CDT
DTSTART:20250309T080000
END:DAYLIGHT
BEGIN:STANDARD
TZOFFSETFROM:-0500
TZOFFSETTO:-0600
TZNAME:CST
DTSTART:20251102T070000
END:STANDARD
BEGIN:DAYLIGHT
TZOFFSETFROM:-0600
TZOFFSETTO:-0500
TZNAME:CDT
DTSTART:20260308T080000
END:DAYLIGHT
BEGIN:STANDARD
TZOFFSETFROM:-0500
TZOFFSETTO:-0600
TZNAME:CST
DTSTART:20261101T070000
END:STANDARD
END:VTIMEZONE
BEGIN:VEVENT
DTSTART;TZID=America/Chicago:20250428T100000
DTEND;TZID=America/Chicago:20250428T110000
DTSTAMP:20260423T130048
CREATED:20241104T202219Z
LAST-MODIFIED:20241104T202219Z
UID:10000586-1745834400-1745838000@www.oklahomabaptists.org
SUMMARY:CrossTimbers Pre-Camp Zoom Meeting for Returning Churches
DESCRIPTION:This camp meeting is for RETURNING churches/leadership that have brought a group before and will be bringing kids back to CrossTimbers Mission Adventure Camp in 2025. This is a mandatory meeting for RETURNING churches/leadership where you will hear about changes and updates to camp this year. Click the link to register. \nLocation:  Zoom (Link will be emailed out the morning of the meeting)
URL:https://www.oklahomabaptists.org/event/crosstimbers-pre-camp-zoom-meeting-for-returning-churches/
LOCATION:Zoom
CATEGORIES:Childhood Ministries
ATTACH;FMTTYPE=image/png:https://cdn.oklahomabaptists.org/20241024162312/CrossTimbers-Childrens-Mission-Adventure-Camp-2.png
ORGANIZER;CN="Emily Stinnett":MAILTO:estinnett@oklahomabaptists.org
END:VEVENT
END:VCALENDAR