BEGIN:VCALENDAR
VERSION:2.0
PRODID:-//Oklahoma Baptists - ECPv6.15.17.1//NONSGML v1.0//EN
CALSCALE:GREGORIAN
METHOD:PUBLISH
X-ORIGINAL-URL:https://www.oklahomabaptists.org
X-WR-CALDESC:Events for Oklahoma Baptists
REFRESH-INTERVAL;VALUE=DURATION:PT1H
X-Robots-Tag:noindex
X-PUBLISHED-TTL:PT1H
BEGIN:VTIMEZONE
TZID:America/Chicago
BEGIN:DAYLIGHT
TZOFFSETFROM:-0600
TZOFFSETTO:-0500
TZNAME:CDT
DTSTART:20260308T080000
END:DAYLIGHT
BEGIN:STANDARD
TZOFFSETFROM:-0500
TZOFFSETTO:-0600
TZNAME:CST
DTSTART:20261101T070000
END:STANDARD
BEGIN:DAYLIGHT
TZOFFSETFROM:-0600
TZOFFSETTO:-0500
TZNAME:CDT
DTSTART:20270314T080000
END:DAYLIGHT
BEGIN:STANDARD
TZOFFSETFROM:-0500
TZOFFSETTO:-0600
TZNAME:CST
DTSTART:20271107T070000
END:STANDARD
BEGIN:DAYLIGHT
TZOFFSETFROM:-0600
TZOFFSETTO:-0500
TZNAME:CDT
DTSTART:20280312T080000
END:DAYLIGHT
BEGIN:STANDARD
TZOFFSETFROM:-0500
TZOFFSETTO:-0600
TZNAME:CST
DTSTART:20281105T070000
END:STANDARD
END:VTIMEZONE
BEGIN:VEVENT
DTSTART;VALUE=DATE:20270329
DTEND;VALUE=DATE:20270401
DTSTAMP:20260423T030529
CREATED:20260326T133713Z
LAST-MODIFIED:20260326T133713Z
UID:10000802-1806278400-1806537599@www.oklahomabaptists.org
SUMMARY:DOM Spring Retreat 2027
DESCRIPTION:
URL:https://www.oklahomabaptists.org/event/dom-spring-retreat-2027/
LOCATION:Falls Creek Baptist Conference Center\, 6714 Oklahoma 77D\, Davis\, OK\, 73030\, United States
CATEGORIES:Director of Missions
ORGANIZER;CN="Katie Brown":MAILTO:kbrown@oklahomabaptists.org
GEO:34.4256173;-97.1120809
X-APPLE-STRUCTURED-LOCATION;VALUE=URI;X-ADDRESS=Falls Creek Baptist Conference Center 6714 Oklahoma 77D Davis OK 73030 United States;X-APPLE-RADIUS=500;X-TITLE=6714 Oklahoma 77D:geo:-97.1120809,34.4256173
END:VEVENT
END:VCALENDAR