BEGIN:VCALENDAR
VERSION:2.0
PRODID:-//Oklahoma Baptists - ECPv6.15.17.1//NONSGML v1.0//EN
CALSCALE:GREGORIAN
METHOD:PUBLISH
X-ORIGINAL-URL:https://www.oklahomabaptists.org
X-WR-CALDESC:Events for Oklahoma Baptists
REFRESH-INTERVAL;VALUE=DURATION:PT1H
X-Robots-Tag:noindex
X-PUBLISHED-TTL:PT1H
BEGIN:VTIMEZONE
TZID:America/Chicago
BEGIN:DAYLIGHT
TZOFFSETFROM:-0600
TZOFFSETTO:-0500
TZNAME:CDT
DTSTART:20240310T080000
END:DAYLIGHT
BEGIN:STANDARD
TZOFFSETFROM:-0500
TZOFFSETTO:-0600
TZNAME:CST
DTSTART:20241103T070000
END:STANDARD
BEGIN:DAYLIGHT
TZOFFSETFROM:-0600
TZOFFSETTO:-0500
TZNAME:CDT
DTSTART:20250309T080000
END:DAYLIGHT
BEGIN:STANDARD
TZOFFSETFROM:-0500
TZOFFSETTO:-0600
TZNAME:CST
DTSTART:20251102T070000
END:STANDARD
BEGIN:DAYLIGHT
TZOFFSETFROM:-0600
TZOFFSETTO:-0500
TZNAME:CDT
DTSTART:20260308T080000
END:DAYLIGHT
BEGIN:STANDARD
TZOFFSETFROM:-0500
TZOFFSETTO:-0600
TZNAME:CST
DTSTART:20261101T070000
END:STANDARD
END:VTIMEZONE
BEGIN:VEVENT
DTSTART;TZID=America/Chicago:20251109T180000
DTEND;TZID=America/Chicago:20251109T190000
DTSTAMP:20260425T104503
CREATED:20251003T170304Z
LAST-MODIFIED:20251003T170304Z
UID:10000735-1762711200-1762714800@www.oklahomabaptists.org
SUMMARY:Oklahoma Student Worship Choir
DESCRIPTION:Come hear the OSWC!
URL:https://www.oklahomabaptists.org/event/oklahoma-student-worship-choir-14/
LOCATION:Bartlesville\, Highland Park\, 300 SE Washington Blvd.\, Bartlesville\, OK\, 74006\, United States
CATEGORIES:Student Worship Choir,Worship and Music Ministry
END:VEVENT
BEGIN:VEVENT
DTSTART;VALUE=DATE:20251110
DTEND;VALUE=DATE:20251112
DTSTAMP:20260425T104503
CREATED:20230501T165500Z
LAST-MODIFIED:20250730T191314Z
UID:10000333-1762732800-1762905599@www.oklahomabaptists.org
SUMMARY:Annual Meeting
DESCRIPTION:119th Annual Meeting of Oklahoma Baptists
URL:https://www.oklahomabaptists.org/event/annual-meeting-4/
LOCATION:OKC\, Southern Hills\, 8601 S Pennsylvania Ave.\, Oklahoma City\, OK\, 73159\, United States
CATEGORIES:Executive Office
ORGANIZER;CN="Lori Warren":MAILTO:lwarren@oklahomabaptists.org
END:VEVENT
BEGIN:VEVENT
DTSTART;TZID=America/Chicago:20251110T140000
DTEND;TZID=America/Chicago:20251110T163000
DTSTAMP:20260425T104503
CREATED:20250428T201948Z
LAST-MODIFIED:20250429T195740Z
UID:10000657-1762783200-1762792200@www.oklahomabaptists.org
SUMMARY:International Parents Fellowship - Annual Meeting
DESCRIPTION:Gathering of Missionary Parents to pray and fellowship.
URL:https://www.oklahomabaptists.org/event/international-parents-fellowship-annual-meeting/
LOCATION:OKC\, Southern Hills\, 8601 S Pennsylvania Ave.\, Oklahoma City\, OK\, 73159\, United States
CATEGORIES:Women's Missions and Ministries
ORGANIZER;CN="Amy Cordova":MAILTO:acordova@oklahomabaptists.org
END:VEVENT
BEGIN:VEVENT
DTSTART;TZID=America/Chicago:20251110T163000
DTEND;TZID=America/Chicago:20251110T164500
DTSTAMP:20260425T104503
CREATED:20250428T203937Z
LAST-MODIFIED:20250429T195734Z
UID:10000656-1762792200-1762793100@www.oklahomabaptists.org
SUMMARY:WMU Presidential Election - Annual Meeting
DESCRIPTION:Annual Presidential Election for Oklahoma WMU President
URL:https://www.oklahomabaptists.org/event/wmu-presidential-election-annual-meeting/
LOCATION:OKC\, Southern Hills\, 8601 S Pennsylvania Ave.\, Oklahoma City\, OK\, 73159\, United States
CATEGORIES:Women's Missions and Ministries
ORGANIZER;CN="Amy Cordova":MAILTO:acordova@oklahomabaptists.org
END:VEVENT
BEGIN:VEVENT
DTSTART;TZID=America/Chicago:20251110T164500
DTEND;TZID=America/Chicago:20251110T183000
DTSTAMP:20260425T104503
CREATED:20250428T205128Z
LAST-MODIFIED:20250429T195729Z
UID:10000655-1762793100-1762799400@www.oklahomabaptists.org
SUMMARY:Missions Dinner - Annual Meeting
DESCRIPTION:Celebration of what the Lord continues to do in our state and the world as we are on mission for Him.
URL:https://www.oklahomabaptists.org/event/missions-dinner-annual-meeting/
LOCATION:OKC\, Southern Hills\, 8601 S Pennsylvania Ave.\, Oklahoma City\, OK\, 73159\, United States
CATEGORIES:Women's Missions and Ministries
ORGANIZER;CN="Amy Cordova":MAILTO:acordova@oklahomabaptists.org
END:VEVENT
BEGIN:VEVENT
DTSTART;TZID=America/Chicago:20251113T090000
DTEND;TZID=America/Chicago:20251113T140000
DTSTAMP:20260425T104503
CREATED:20251002T214833Z
LAST-MODIFIED:20251002T214833Z
UID:10000714-1763024400-1763042400@www.oklahomabaptists.org
SUMMARY:VBS Jumpstart 2025
DESCRIPTION:Join us for our annual VBS Jumpstart event! \nThe 2026 Lifeway theme is “Illumination Station” based on John 8:12. This year we’ll focus on Shining a Light on Who Jesus Really Is.  \nThis year’s Jumpstart will be held at Emmaus Baptist Church\, 16001 S Western Avenue in Oklahoma City. \nDoors will open for Registration/Check-in at 8:45am\, with coffee & donuts provided. We will hear from Lifeway’s VBS Specialist\, Melita Thomas\, as she shares the heart behind this year’s theme. Lunch will be provided. Make sure you stay until the end for some amazing door prizes!!
URL:https://www.oklahomabaptists.org/event/vbs-jumpstart-2025/
LOCATION:OKC\, Emmaus\, 16001 S Western Ave.\, Oklahoma City\, OK\, 73170\, United States
CATEGORIES:Vacation Bible School
ORGANIZER;CN="Lauren West":MAILTO:lwest@oklahomabaptists.org
GEO:35.3096303;-97.5299079
X-APPLE-STRUCTURED-LOCATION;VALUE=URI;X-ADDRESS=OKC Emmaus 16001 S Western Ave. Oklahoma City OK 73170 United States;X-APPLE-RADIUS=500;X-TITLE=16001 S Western Ave.:geo:-97.5299079,35.3096303
END:VEVENT
BEGIN:VEVENT
DTSTART;TZID=America/Chicago:20251113T190000
DTEND;TZID=America/Chicago:20251113T203000
DTSTAMP:20260425T104503
CREATED:20251003T155655Z
LAST-MODIFIED:20251003T155655Z
UID:10000716-1763060400-1763065800@www.oklahomabaptists.org
SUMMARY:SCM Concert
DESCRIPTION:Singing Churchmen Concert.
URL:https://www.oklahomabaptists.org/event/scm-concert-4/
LOCATION:Prague\, First\, 1500 Bluebell Road\, Prague\, OK\, 74864\, United States
CATEGORIES:Singing Churchmen
END:VEVENT
END:VCALENDAR